BEGIN:VCALENDAR
PRODID:-//Microsoft Corporation//Outlook 14.0 MIMEDIR//EN
VERSION:2.0
METHOD:PUBLISH
BEGIN:VEVENT
UID:6d702871b0f30436cbb8be0ad63ae31bfrancois.devviglob.com
DTSTAMP:20260420T002716Z
DTSTART:2026-06-18T08:00:0000Z
DTEND:2026-06-18T14:00:0000Z
SUMMARY:Animez des rencontres efficaces
LOCATION:275 Avenue Caumartin, Boisbriand, QC, Canada
DESCRIPTION:Améliorez vos compétences en animation de réunions productives et collaboratives. Cet atelier vous donnera la confiance nécessaire pour diriger des rencontres efficacement grâce à de nouveaux outils, des stratégies et des méthodes d’animation.
END:VEVENT
END:VCALENDAR