BEGIN:VCALENDAR
PRODID:-//Microsoft Corporation//Outlook 14.0 MIMEDIR//EN
VERSION:2.0
METHOD:PUBLISH
BEGIN:VEVENT
UID:c26726bae921c507f746964157ee4151francois.devviglob.com
DTSTAMP:20260420T002716Z
DTSTART:2026-05-07T08:00:0000Z
DTEND:2026-05-07T14:00:0000Z
SUMMARY:Animez des rencontres efficaces
LOCATION:275 Avenue Caumartin, Boisbriand, QC, Canada
DESCRIPTION:Améliorez vos compétences en animation de réunions productives et collaboratives. Cet atelier vous donnera la confiance nécessaire pour diriger des rencontres efficacement grâce à de nouveaux outils, des stratégies et des méthodes d’animation.
END:VEVENT
END:VCALENDAR